Package: SPsimSeq Version: 1.18.0 Command: /Library/Frameworks/R.framework/Resources/bin/R CMD build --keep-empty-dirs --no-resave-data SPsimSeq StartedAt: 2025-10-13 22:59:45 -0400 (Mon, 13 Oct 2025) EndedAt: 2025-10-13 23:09:21 -0400 (Mon, 13 Oct 2025) EllapsedTime: 575.7 seconds RetCode: 0 Status: OK PackageFile: SPsimSeq_1.18.0.tar.gz PackageFileSize: 773.3 KiB