Package: SPsimSeq Version: 1.18.0 Command: /Library/Frameworks/R.framework/Resources/bin/R CMD build --keep-empty-dirs --no-resave-data SPsimSeq StartedAt: 2025-04-21 18:36:30 -0400 (Mon, 21 Apr 2025) EndedAt: 2025-04-21 18:40:40 -0400 (Mon, 21 Apr 2025) EllapsedTime: 250.2 seconds RetCode: 0 Status: OK PackageFile: SPsimSeq_1.18.0.tar.gz PackageFileSize: 773.2 KiB