Package: SPsimSeq Version: 1.18.0 Command: /home/biocbuild/R/R/bin/R CMD INSTALL SPsimSeq StartedAt: 2025-10-13 21:04:55 -0000 (Mon, 13 Oct 2025) EndedAt: 2025-10-13 21:05:45 -0000 (Mon, 13 Oct 2025) EllapsedTime: 50.5 seconds RetCode: 0 Status: OK