Package: SPsimSeq Version: 1.18.0 Command: /home/biocbuild/R/R/bin/R CMD build --keep-empty-dirs --no-resave-data SPsimSeq StartedAt: 2025-10-14 05:05:40 -0000 (Tue, 14 Oct 2025) EndedAt: 2025-10-14 05:13:17 -0000 (Tue, 14 Oct 2025) EllapsedTime: 457.2 seconds RetCode: 0 Status: OK PackageFile: SPsimSeq_1.18.0.tar.gz PackageFileSize: 760.7 KiB