Package: SPOTlight Version: 1.12.2 Command: /home/biocbuild/R/R/bin/R CMD INSTALL SPOTlight StartedAt: 2025-10-13 20:33:52 -0000 (Mon, 13 Oct 2025) EndedAt: 2025-10-13 20:34:49 -0000 (Mon, 13 Oct 2025) EllapsedTime: 56.9 seconds RetCode: 0 Status: OK