Package: SPOTlight Version: 1.12.2 Command: /home/biocbuild/R/R/bin/R CMD build --keep-empty-dirs --no-resave-data SPOTlight StartedAt: 2025-10-14 05:04:56 -0000 (Tue, 14 Oct 2025) EndedAt: 2025-10-14 05:08:31 -0000 (Tue, 14 Oct 2025) EllapsedTime: 215.1 seconds RetCode: 0 Status: OK PackageFile: SPOTlight_1.12.2.tar.gz PackageFileSize: 3.899 MiB