Package: SPOTlight Version: 1.12.2 Command: /Library/Frameworks/R.framework/Resources/bin/R CMD INSTALL SPOTlight StartedAt: 2025-10-13 16:16:22 -0400 (Mon, 13 Oct 2025) EndedAt: 2025-10-13 16:17:03 -0400 (Mon, 13 Oct 2025) EllapsedTime: 41.0 seconds RetCode: 0 Status: OK