Package: SPOTlight Version: 1.12.2 Command: rm -rf SPOTlight.buildbin-libdir && mkdir SPOTlight.buildbin-libdir && /Users/biocbuild/BBS/utils/build-universal.sh SPOTlight_1.12.2.tar.gz /Library/Frameworks/R.framework/Resources/bin/R SPOTlight.buildbin-libdir StartedAt: 2025-10-15 20:41:46 -0400 (Wed, 15 Oct 2025) EndedAt: 2025-10-15 20:42:33 -0400 (Wed, 15 Oct 2025) EllapsedTime: 46.8 seconds RetCode: 0 Status: OK PackageFile: SPOTlight_1.12.2.tgz PackageFileSize: 4.692 MiB