Package: SPLINTER Version: 1.34.0 Command: /home/biocbuild/R/R/bin/R CMD INSTALL SPLINTER StartedAt: 2025-10-13 21:07:16 -0000 (Mon, 13 Oct 2025) EndedAt: 2025-10-13 21:08:27 -0000 (Mon, 13 Oct 2025) EllapsedTime: 70.9 seconds RetCode: 0 Status: OK