Package: SPLINTER Version: 1.34.0 Command: /home/biocbuild/R/R/bin/R CMD build --keep-empty-dirs --no-resave-data SPLINTER StartedAt: 2025-10-14 05:03:08 -0000 (Tue, 14 Oct 2025) EndedAt: 2025-10-14 05:05:18 -0000 (Tue, 14 Oct 2025) EllapsedTime: 130.0 seconds RetCode: 1 Status: ERROR PackageFile: None PackageFileSize: NA