Package: SPLINTER Version: 1.34.0 Command: /Library/Frameworks/R.framework/Resources/bin/R CMD build --keep-empty-dirs --no-resave-data SPLINTER StartedAt: 2025-10-14 10:18:42 -0400 (Tue, 14 Oct 2025) EndedAt: 2025-10-14 10:20:40 -0400 (Tue, 14 Oct 2025) EllapsedTime: 118.3 seconds RetCode: 1 Status: ERROR PackageFile: None PackageFileSize: NA