Package: SPIAT Version: 1.10.0 Command: /home/biocbuild/bbs-3.21-bioc/R/bin/R CMD INSTALL SPIAT StartedAt: 2025-10-15 15:23:09 -0400 (Wed, 15 Oct 2025) EndedAt: 2025-10-15 15:23:38 -0400 (Wed, 15 Oct 2025) EllapsedTime: 28.8 seconds RetCode: 0 Status: OK