Package: SPIAT Version: 1.10.0 Command: /home/biocbuild/bbs-3.21-bioc/R/bin/R CMD build --keep-empty-dirs --no-resave-data SPIAT StartedAt: 2025-10-15 20:05:44 -0400 (Wed, 15 Oct 2025) EndedAt: 2025-10-15 20:08:19 -0400 (Wed, 15 Oct 2025) EllapsedTime: 154.1 seconds RetCode: 0 Status: OK PackageFile: SPIAT_1.10.0.tar.gz PackageFileSize: 7.435 MiB