Package: SPIAT Version: 1.10.0 Command: /home/biocbuild/R/R/bin/R CMD build --keep-empty-dirs --no-resave-data SPIAT StartedAt: 2025-10-14 05:01:03 -0000 (Tue, 14 Oct 2025) EndedAt: 2025-10-14 05:04:56 -0000 (Tue, 14 Oct 2025) EllapsedTime: 233.1 seconds RetCode: 1 Status: ERROR PackageFile: None PackageFileSize: NA