Package: SPIAT Version: 1.10.0 Command: /Library/Frameworks/R.framework/Resources/bin/R CMD INSTALL SPIAT StartedAt: 2025-10-13 16:31:08 -0400 (Mon, 13 Oct 2025) EndedAt: 2025-10-13 16:31:43 -0400 (Mon, 13 Oct 2025) EllapsedTime: 35.0 seconds RetCode: 0 Status: OK