Package: SPIAT Version: 1.10.0 Command: rm -rf SPIAT.buildbin-libdir && mkdir SPIAT.buildbin-libdir && /Users/biocbuild/BBS/utils/build-universal.sh SPIAT_1.10.0.tar.gz /Library/Frameworks/R.framework/Resources/bin/R SPIAT.buildbin-libdir StartedAt: 2025-10-15 20:40:17 -0400 (Wed, 15 Oct 2025) EndedAt: 2025-10-15 20:40:57 -0400 (Wed, 15 Oct 2025) EllapsedTime: 40.2 seconds RetCode: 0 Status: OK PackageFile: SPIAT_1.10.0.tgz PackageFileSize: 6.996 MiB