Package: SNAGEE Version: 1.48.0 Command: /home/biocbuild/R/R/bin/R CMD INSTALL SNAGEE StartedAt: 2025-10-13 20:14:39 -0000 (Mon, 13 Oct 2025) EndedAt: 2025-10-13 20:15:05 -0000 (Mon, 13 Oct 2025) EllapsedTime: 26.8 seconds RetCode: 0 Status: OK