Package: SLqPCR Version: 1.74.0 Command: rm -rf SLqPCR.buildbin-libdir && mkdir SLqPCR.buildbin-libdir && /Users/biocbuild/BBS/utils/build-universal.sh SLqPCR_1.74.0.tar.gz /Library/Frameworks/R.framework/Resources/bin/R SLqPCR.buildbin-libdir StartedAt: 2025-10-15 20:35:41 -0400 (Wed, 15 Oct 2025) EndedAt: 2025-10-15 20:35:44 -0400 (Wed, 15 Oct 2025) EllapsedTime: 3.3 seconds RetCode: 0 Status: OK PackageFile: SLqPCR_1.74.0.tgz PackageFileSize: 236.6 KiB