Package: SIMLR Version: 1.34.0 Command: /home/biocbuild/bbs-3.21-bioc/R/bin/R CMD INSTALL SIMLR StartedAt: 2025-10-15 15:04:40 -0400 (Wed, 15 Oct 2025) EndedAt: 2025-10-15 15:04:59 -0400 (Wed, 15 Oct 2025) EllapsedTime: 19.6 seconds RetCode: 0 Status: OK