Package: SIMLR Version: 1.34.0 Command: /home/biocbuild/bbs-3.21-bioc/R/bin/R CMD build --keep-empty-dirs --no-resave-data SIMLR StartedAt: 2025-10-15 19:55:49 -0400 (Wed, 15 Oct 2025) EndedAt: 2025-10-15 19:57:33 -0400 (Wed, 15 Oct 2025) EllapsedTime: 104.1 seconds RetCode: 0 Status: OK PackageFile: SIMLR_1.34.0.tar.gz PackageFileSize: 4.12 MiB