Package: SIMLR Version: 1.34.0 Command: /home/biocbuild/R/R/bin/R CMD INSTALL SIMLR StartedAt: 2025-10-13 20:15:46 -0000 (Mon, 13 Oct 2025) EndedAt: 2025-10-13 20:16:28 -0000 (Mon, 13 Oct 2025) EllapsedTime: 41.6 seconds RetCode: 0 Status: OK