Package: SIMLR Version: 1.34.0 Command: /home/biocbuild/R/R/bin/R CMD build --keep-empty-dirs --no-resave-data SIMLR StartedAt: 2025-10-14 04:44:39 -0000 (Tue, 14 Oct 2025) EndedAt: 2025-10-14 04:51:15 -0000 (Tue, 14 Oct 2025) EllapsedTime: 396.3 seconds RetCode: 0 Status: OK PackageFile: SIMLR_1.34.0.tar.gz PackageFileSize: 4.234 MiB