Package: SIMLR Version: 1.34.0 Command: /Library/Frameworks/R.framework/Resources/bin/R CMD INSTALL SIMLR StartedAt: 2025-10-13 15:15:32 -0400 (Mon, 13 Oct 2025) EndedAt: 2025-10-13 15:15:53 -0400 (Mon, 13 Oct 2025) EllapsedTime: 21.0 seconds RetCode: 0 Status: OK