Package: SIMLR Version: 1.34.0 Command: /Library/Frameworks/R.framework/Resources/bin/R CMD build --keep-empty-dirs --no-resave-data SIMLR StartedAt: 2025-10-14 09:34:48 -0400 (Tue, 14 Oct 2025) EndedAt: 2025-10-14 09:37:22 -0400 (Tue, 14 Oct 2025) EllapsedTime: 153.7 seconds RetCode: 0 Status: OK PackageFile: SIMLR_1.34.0.tar.gz PackageFileSize: 4.096 MiB