Package: SIMD Version: 1.26.0 Command: /home/biocbuild/R/R/bin/R CMD build --keep-empty-dirs --no-resave-data SIMD StartedAt: 2025-10-14 04:44:27 -0000 (Tue, 14 Oct 2025) EndedAt: 2025-10-14 04:44:38 -0000 (Tue, 14 Oct 2025) EllapsedTime: 11.0 seconds RetCode: 0 Status: OK PackageFile: SIMD_1.26.0.tar.gz PackageFileSize: 356.3 KiB