Package: SIMD Version: 1.26.0 Command: /Library/Frameworks/R.framework/Resources/bin/R CMD INSTALL SIMD StartedAt: 2025-10-13 15:10:14 -0400 (Mon, 13 Oct 2025) EndedAt: 2025-10-13 15:10:18 -0400 (Mon, 13 Oct 2025) EllapsedTime: 4.4 seconds RetCode: 0 Status: OK