Package: SIMD Version: 1.26.0 Command: /Library/Frameworks/R.framework/Resources/bin/R CMD build --keep-empty-dirs --no-resave-data SIMD StartedAt: 2025-10-14 09:33:53 -0400 (Tue, 14 Oct 2025) EndedAt: 2025-10-14 09:34:06 -0400 (Tue, 14 Oct 2025) EllapsedTime: 13.7 seconds RetCode: 0 Status: OK PackageFile: SIMD_1.26.0.tar.gz PackageFileSize: 332.9 KiB