Package: SIMAT Version: 1.40.0 Command: /home/biocbuild/bbs-3.21-bioc/R/bin/R CMD INSTALL SIMAT StartedAt: 2025-10-15 15:21:48 -0400 (Wed, 15 Oct 2025) EndedAt: 2025-10-15 15:21:56 -0400 (Wed, 15 Oct 2025) EllapsedTime: 7.9 seconds RetCode: 0 Status: OK