Package: SIMAT Version: 1.40.0 Command: /home/biocbuild/bbs-3.21-bioc/R/bin/R CMD build --keep-empty-dirs --no-resave-data SIMAT StartedAt: 2025-10-15 19:55:29 -0400 (Wed, 15 Oct 2025) EndedAt: 2025-10-15 19:55:48 -0400 (Wed, 15 Oct 2025) EllapsedTime: 19.0 seconds RetCode: 0 Status: OK PackageFile: SIMAT_1.40.0.tar.gz PackageFileSize: 1.038 MiB