Package: SIMAT Version: 1.40.0 Command: /Library/Frameworks/R.framework/Resources/bin/R CMD INSTALL SIMAT StartedAt: 2025-10-13 16:03:54 -0400 (Mon, 13 Oct 2025) EndedAt: 2025-10-13 16:04:03 -0400 (Mon, 13 Oct 2025) EllapsedTime: 9.7 seconds RetCode: 0 Status: OK