Package: SIMAT Version: 1.40.0 Command: rm -rf SIMAT.buildbin-libdir && mkdir SIMAT.buildbin-libdir && /Users/biocbuild/BBS/utils/build-universal.sh SIMAT_1.40.0.tar.gz /Library/Frameworks/R.framework/Resources/bin/R SIMAT.buildbin-libdir StartedAt: 2025-10-15 20:32:35 -0400 (Wed, 15 Oct 2025) EndedAt: 2025-10-15 20:32:47 -0400 (Wed, 15 Oct 2025) EllapsedTime: 12.4 seconds RetCode: 0 Status: OK PackageFile: SIMAT_1.40.0.tgz PackageFileSize: 1.143 MiB