Package: SIM Version: 1.78.0 Command: /home/biocbuild/bbs-3.21-bioc/R/bin/R CMD INSTALL SIM StartedAt: 2025-10-15 15:27:30 -0400 (Wed, 15 Oct 2025) EndedAt: 2025-10-15 15:27:49 -0400 (Wed, 15 Oct 2025) EllapsedTime: 18.3 seconds RetCode: 0 Status: OK