Package: SIM Version: 1.78.0 Command: /home/biocbuild/R/R/bin/R CMD build --keep-empty-dirs --no-resave-data SIM StartedAt: 2025-10-14 04:44:03 -0000 (Tue, 14 Oct 2025) EndedAt: 2025-10-14 04:44:48 -0000 (Tue, 14 Oct 2025) EllapsedTime: 45.0 seconds RetCode: 0 Status: OK PackageFile: SIM_1.78.0.tar.gz PackageFileSize: 452 KiB