Package: SIM Version: 1.78.0 Command: /Library/Frameworks/R.framework/Resources/bin/R CMD INSTALL SIM StartedAt: 2025-10-13 15:50:51 -0400 (Mon, 13 Oct 2025) EndedAt: 2025-10-13 15:51:13 -0400 (Mon, 13 Oct 2025) EllapsedTime: 22.2 seconds RetCode: 0 Status: OK