Package: SIM Version: 1.78.0 Command: /Library/Frameworks/R.framework/Resources/bin/R CMD build --keep-empty-dirs --no-resave-data SIM StartedAt: 2025-10-14 09:32:40 -0400 (Tue, 14 Oct 2025) EndedAt: 2025-10-14 09:33:24 -0400 (Tue, 14 Oct 2025) EllapsedTime: 44.6 seconds RetCode: 0 Status: OK PackageFile: SIM_1.78.0.tar.gz PackageFileSize: 461.7 KiB