Package: SICtools Version: 1.38.0 Command: /Library/Frameworks/R.framework/Resources/bin/R CMD build --keep-empty-dirs --no-resave-data SICtools StartedAt: 2025-10-14 09:28:34 -0400 (Tue, 14 Oct 2025) EndedAt: 2025-10-14 09:29:31 -0400 (Tue, 14 Oct 2025) EllapsedTime: 56.4 seconds RetCode: 0 Status: OK PackageFile: SICtools_1.38.0.tar.gz PackageFileSize: 1.531 MiB