Package: SICtools Version: 1.38.0 Command: rm -rf SICtools.buildbin-libdir && mkdir SICtools.buildbin-libdir && /Users/biocbuild/BBS/utils/build-universal.sh SICtools_1.38.0.tar.gz /Library/Frameworks/R.framework/Resources/bin/R SICtools.buildbin-libdir StartedAt: 2025-10-15 20:31:36 -0400 (Wed, 15 Oct 2025) EndedAt: 2025-10-15 20:32:19 -0400 (Wed, 15 Oct 2025) EllapsedTime: 43.1 seconds RetCode: 0 Status: OK PackageFile: SICtools_1.38.0.tgz PackageFileSize: 1.31 MiB