Package: SGSeq Version: 1.42.1 Command: /home/biocbuild/R/R/bin/R CMD build --keep-empty-dirs --no-resave-data SGSeq StartedAt: 2025-10-14 04:41:35 -0000 (Tue, 14 Oct 2025) EndedAt: 2025-10-14 04:45:54 -0000 (Tue, 14 Oct 2025) EllapsedTime: 259.2 seconds RetCode: 0 Status: OK PackageFile: SGSeq_1.42.1.tar.gz PackageFileSize: 1.743 MiB