Package: SELEX Version: 1.40.0 Command: /home/biocbuild/R/R/bin/R CMD INSTALL SELEX StartedAt: 2025-10-13 20:28:05 -0000 (Mon, 13 Oct 2025) EndedAt: 2025-10-13 20:28:20 -0000 (Mon, 13 Oct 2025) EllapsedTime: 15.0 seconds RetCode: 0 Status: OK