Package: SDAMS Version: 1.28.0 Command: /home/biocbuild/R/R/bin/R CMD build --keep-empty-dirs --no-resave-data SDAMS StartedAt: 2025-10-14 04:36:38 -0000 (Tue, 14 Oct 2025) EndedAt: 2025-10-14 04:37:52 -0000 (Tue, 14 Oct 2025) EllapsedTime: 74.0 seconds RetCode: 0 Status: OK PackageFile: SDAMS_1.28.0.tar.gz PackageFileSize: 1.269 MiB