Package: SCnorm Version: 1.30.1 Command: /home/biocbuild/bbs-3.21-bioc/R/bin/R CMD build --keep-empty-dirs --no-resave-data SCnorm StartedAt: 2025-10-15 19:45:30 -0400 (Wed, 15 Oct 2025) EndedAt: 2025-10-15 19:47:08 -0400 (Wed, 15 Oct 2025) EllapsedTime: 98.1 seconds RetCode: 0 Status: OK PackageFile: SCnorm_1.30.1.tar.gz PackageFileSize: 2.978 MiB