Package: SCnorm Version: 1.30.1 Command: /home/biocbuild/R/R/bin/R CMD build --keep-empty-dirs --no-resave-data SCnorm StartedAt: 2025-10-14 04:29:07 -0000 (Tue, 14 Oct 2025) EndedAt: 2025-10-14 04:31:59 -0000 (Tue, 14 Oct 2025) EllapsedTime: 172.1 seconds RetCode: 0 Status: OK PackageFile: SCnorm_1.30.1.tar.gz PackageFileSize: 2.969 MiB