Package: SCOPE Version: 1.20.0 Command: /home/biocbuild/R/R/bin/R CMD INSTALL SCOPE StartedAt: 2025-10-13 20:49:46 -0000 (Mon, 13 Oct 2025) EndedAt: 2025-10-13 20:50:38 -0000 (Mon, 13 Oct 2025) EllapsedTime: 51.9 seconds RetCode: 0 Status: OK