Package: SCArray Version: 1.16.0 Command: /Library/Frameworks/R.framework/Resources/bin/R CMD INSTALL SCArray StartedAt: 2025-10-13 18:10:05 -0400 (Mon, 13 Oct 2025) EndedAt: 2025-10-13 18:10:50 -0400 (Mon, 13 Oct 2025) EllapsedTime: 44.8 seconds RetCode: 0 Status: OK