Package: SCArray Version: 1.16.0 Command: /Library/Frameworks/R.framework/Resources/bin/R CMD build --keep-empty-dirs --no-resave-data SCArray StartedAt: 2025-10-14 08:30:59 -0400 (Tue, 14 Oct 2025) EndedAt: 2025-10-14 08:32:42 -0400 (Tue, 14 Oct 2025) EllapsedTime: 103.0 seconds RetCode: 0 Status: OK PackageFile: SCArray_1.16.0.tar.gz PackageFileSize: 1.361 MiB