Package: SCArray.sat Version: 1.8.0 Command: /home/biocbuild/bbs-3.21-bioc/R/bin/R CMD check --install=check:SCArray.sat.install-out.txt --library=/home/biocbuild/bbs-3.21-bioc/R/site-library --timings SCArray.sat_1.8.0.tar.gz StartedAt: 2025-10-16 03:11:59 -0400 (Thu, 16 Oct 2025) EndedAt: 2025-10-16 03:18:18 -0400 (Thu, 16 Oct 2025) EllapsedTime: 378.5 seconds RetCode: 0 Status: OK CheckDir: SCArray.sat.Rcheck Warnings: 0