Package: SCArray.sat Version: 1.8.0 Command: rm -rf SCArray.sat.buildbin-libdir && mkdir SCArray.sat.buildbin-libdir && /Users/biocbuild/BBS/utils/build-universal.sh SCArray.sat_1.8.0.tar.gz /Library/Frameworks/R.framework/Resources/bin/R SCArray.sat.buildbin-libdir StartedAt: 2025-10-15 20:19:37 -0400 (Wed, 15 Oct 2025) EndedAt: 2025-10-15 20:20:30 -0400 (Wed, 15 Oct 2025) EllapsedTime: 53.4 seconds RetCode: 0 Status: OK PackageFile: SCArray.sat_1.8.0.tgz PackageFileSize: 817.4 KiB