Package: SCANVIS Version: 1.22.0 Command: /home/biocbuild/bbs-3.21-bioc/R/bin/R CMD build --keep-empty-dirs --no-resave-data SCANVIS StartedAt: 2025-10-15 19:39:53 -0400 (Wed, 15 Oct 2025) EndedAt: 2025-10-15 19:40:50 -0400 (Wed, 15 Oct 2025) EllapsedTime: 57.1 seconds RetCode: 0 Status: OK PackageFile: SCANVIS_1.22.0.tar.gz PackageFileSize: 470.3 KiB