Package: SCAN.UPC Version: 2.50.0 Command: /home/biocbuild/R/R/bin/R CMD INSTALL SCAN.UPC StartedAt: 2025-10-13 20:48:52 -0000 (Mon, 13 Oct 2025) EndedAt: 2025-10-13 20:49:39 -0000 (Mon, 13 Oct 2025) EllapsedTime: 47.0 seconds RetCode: 0 Status: OK