Package: SCAN.UPC Version: 2.50.0 Command: /home/biocbuild/R/R/bin/R CMD build --keep-empty-dirs --no-resave-data SCAN.UPC StartedAt: 2025-10-14 04:19:21 -0000 (Tue, 14 Oct 2025) EndedAt: 2025-10-14 04:20:13 -0000 (Tue, 14 Oct 2025) EllapsedTime: 52.0 seconds RetCode: 0 Status: OK PackageFile: SCAN.UPC_2.50.0.tar.gz PackageFileSize: 683.3 KiB